Workbook
Name Charges_M: 'Parents - Epoux'!$D$25
Name Charges_Mme: 'Parents - Epoux'!$D$52
Name Couts_directs_M: 'Enfant(s)'!$J$57
Name Couts_directs_Mme: 'Enfant(s)'!$J$58
Name Disponible_M: 'Parents - Epoux'!$D$27
Name Disponible_M_apres_couts_directs: 'Pensions Enfant(s)'!$F$40
Name Disponible_Mme: 'Parents - Epoux'!$D$54
Name Disponible_Mme_apres_couts_directs: 'Pensions Enfant(s)'!$F$41
Name Nom_de_l_affaire: 'Enfant(s)'!$C$1
Name Pensions_enfants_M: 'Pensions Enfant(s)'!$J$62
Name Pensions_enfants_Mme: 'Pensions Enfant(s)'!$J$64
Name Revenus_M: 'Parents - Epoux'!$D$8
Name Revenus_Mme: 'Parents - Epoux'!$D$35

Sheet Enfant(s)
B1: Nom de l'affaire : | K1: Page 1 / 4
A2: A) COÛT NET DE L'ENTRETIEN DES ENFANTS
A3: Nom de l'enfant
A4: Enfant commun ou uniquement de l'un des parents?
A5: a) Coûts directs | K5: Commentaires
A6: Supportés par Monsieur | B6: =IF(ISBLANK(B$3),"",B$3) | C6: =IF(ISBLANK(C$3),"",C$3) | D6: =IF(ISBLANK(D$3),"",D$3) | E6: =IF(ISBLANK(E$3),"",E$3) | F6: =IF(ISBLANK(F$3),"",F$3) | G6: =IF(ISBLANK(G$3),"",G$3) | H6: =IF(ISBLANK(H$3),"",H$3) | I6: =IF(ISBLANK(I$3),"",I$3) | J6: Total
A7: Base mensuelle | J7: =SUM(B7:I7) -> 0
A8: Participation aux charges de logement | J8: =SUM(B8:I8) -> 0
A9: Assurance-maladie obligatoire | J9: =SUM(B9:I9) -> 0
A10: Assurance-maladie complémentaire | J10: =SUM(B10:I10) -> 0
A11: Frais médicaux | J11: =SUM(B11:I11) -> 0
A12: Frais de garde / prise en charge par des tiers | J12: =SUM(B12:I12) -> 0
A13: Frais d'écolage | J13: =SUM(B13:I13) -> 0
A14: Frais de transport (vers lieu de formation) | J14: =SUM(B14:I14) -> 0
A15: Frais de repas | J15: =SUM(B15:I15) -> 0
A16: Loisirs | J16: =SUM(B16:I16) -> 0
A17: Autre montant I | J17: =SUM(B17:I17) -> 0
A18: Autre montant II | J18: =SUM(B18:I18) -> 0
A19: Total | B19: =SUM(B7:B18) -> 0 | C19: =SUM(C7:C18) -> 0 | D19: =SUM(D7:D18) -> 0 | E19: =SUM(E7:E18) -> 0 | F19: =SUM(F7:F18) -> 0 | G19: =SUM(G7:G18) -> 0 | H19: =SUM(H7:H18) -> 0 | I19: =SUM(I7:I18) -> 0 | J19: =SUM(B19:I19) -> 0
A21: En cas de pension due par M. pour des enfants non communs | B21: =IF(ISBLANK(B$3),"",B$3) | C21: =IF(ISBLANK(C$3),"",C$3) | D21: =IF(ISBLANK(D$3),"",D$3) | E21: =IF(ISBLANK(E$3),"",E$3) | F21: =IF(ISBLANK(F$3),"",F$3) | G21: =IF(ISBLANK(G$3),"",G$3) | H21: =IF(ISBLANK(H$3),"",H$3) | I21: =IF(ISBLANK(I$3),"",I$3)
A22: Montant de la pension pour coûts directs | J22: =SUM(B22:I22) -> 0
A23: Montant de la pension pour contribution de prise en charge | J23: =SUM(B23:I23) -> 0
A25: Supportés par Madame | B25: =IF(ISBLANK(B$3),"",B$3) | C25: =IF(ISBLANK(C$3),"",C$3) | D25: =IF(ISBLANK(D$3),"",D$3) | E25: =IF(ISBLANK(E$3),"",E$3) | F25: =IF(ISBLANK(F$3),"",F$3) | G25: =IF(ISBLANK(G$3),"",G$3) | H25: =IF(ISBLANK(H$3),"",H$3) | I25: =IF(ISBLANK(I$3),"",I$3) | J25: Total
A26: Base mensuelle | J26: =SUM(B26:I26) -> 0
A27: Participation aux charges de logement | J27: =SUM(B27:I27) -> 0
A28: Assurance-maladie obligatoire | J28: =SUM(B28:I28) -> 0
A29: Assurance-maladie complémentaire | J29: =SUM(B29:I29) -> 0
A30: Frais médicaux | J30: =SUM(B30:I30) -> 0
A31: Frais de garde / prise en charge par des tiers | J31: =SUM(B31:I31) -> 0
A32: Frais d'écolage | J32: =SUM(B32:I32) -> 0
A33: Frais de transport (vers lieu de formation) | J33: =SUM(B33:I33) -> 0
A34: Frais de repas | J34: =SUM(B34:I34) -> 0
A35: Loisirs | J35: =SUM(B35:I35) -> 0
A36: Autre montant I | J36: =SUM(B36:I36) -> 0
A37: Autre montant II | J37: =SUM(B37:I37) -> 0
A38: Total | B38: =SUM(B26:B37) -> 0 | C38: =SUM(C26:C37) -> 0 | D38: =SUM(D26:D37) -> 0 | E38: =SUM(E26:E37) -> 0 | F38: =SUM(F26:F37) -> 0 | G38: =SUM(G26:G37) -> 0 | H38: =SUM(H26:H37) -> 0 | I38: =SUM(I26:I37) -> 0 | J38: =SUM(B38:I38) -> 0
A40: En cas de pension due par Mme pour des enfants non communs | B40: =IF(ISBLANK(B$3),"",B$3) | C40: =IF(ISBLANK(C$3),"",C$3) | D40: =IF(ISBLANK(D$3),"",D$3) | E40: =IF(ISBLANK(E$3),"",E$3) | F40: =IF(ISBLANK(F$3),"",F$3) | G40: =IF(ISBLANK(G$3),"",G$3) | H40: =IF(ISBLANK(H$3),"",H$3) | I40: =IF(ISBLANK(I$3),"",I$3)
A41: Montant de la pension pour coûts directs | J41: =SUM(B41:I41) -> 0
A42: Montant de la pension pour contribution de prise en charge | J42: =SUM(B42:I42) -> 0
A44: b) Montants à imputer en raison des ressources de l'enfant
...

Sheet Parents - Epoux
A1: B) DISPONIBLE (+) OU MANCO (-) INDIVIDUEL DES PARENTS | D1: =IF(ISBLANK(Nom_de_l_affaire),"",Nom_de_l_affaire) | G1: Page 2 / 4
A2: a) Situation financière de Monsieur
A3: Revenus de Monsieur | D3: gain mensuel | E3: gain annuel | F3: mensualisation | G3: Commentaires
A4: gain mensuel net époux (y c. 13ème, sans a. f.) | F4: =D4+E4/12 -> 0
A5: gain accessoire I | F5: =D5+E5/12 -> 0
A6: gain accessoire II | F6: =D6+E6/12 -> 0
A7: gain accessoire III | F7: =D7+E7/12 -> 0
A8: total gains Monsieur | D8: =SUM(F4:F7) -> 0
A10: Minimum vital de Monsieur | D10: charge mensuelle | E10: charge annuelle | F10: mensualisation
A11: base mensuelle selon normes OPF | F11: =D11+E11/12 -> 0
A12: coût du logement y. c. charges et après déduction part enfant(s)
B13: ./. part(s) enfant(s) : | C13: ='Enfant(s)'!J8 -> 0 | D13: =C12-C13 -> 0 | F13: =D13+E13/12 -> 0
A14: assurance-maladie | F14: =D14+E14/12 -> 0
A15: assurance complémentaire | F15: =D15+E15/12 -> 0
A16: frais médicaux | F16: =D16+E16/12 -> 0
A17: frais professionnels (déplacement) | F17: =D17+E17/12 -> 0
A18: frais professionnels (repas) | F18: =D18+E18/12 -> 0
A19: charge fiscale courante | F19: =D19+E19/12 -> 0
A20: assistance judiciaire | F20: =D20+E20/12 -> 0
A21: droit de visite | F21: =D21+E21/12 -> 0
A22: divers I | F22: =D22+E22/12 -> 0
A23: divers III | F23: =D23+E23/12 -> 0
A24: divers III | F24: =D24+E24/12 -> 0
A25: total charges de Monsieur | D25: =SUM(F11,F13:F24) -> 0
A27: disponible (+) manco (-) no 1 de Monsieur | D27: =D8-D25 -> 0
A29: b) Situation financière de Madame
A30: Revenus de Madame | D30: gain mensuel | E30: gain annuel | F30: mensualisation
A31: gain mensuel net épouse (y c. 13ème, sans a. f.) | F31: =D31+E31/12 -> 0
A32: gain accessoire I | F32: =D32+E32/12 -> 0
A33: gain accessoire II | F33: =D33+E33/12 -> 0
A34: gain accessoire III | F34: =D34+E34/12 -> 0
A35: total gains épouse | D35: =SUM(F31:F34) -> 0
A37: Minimum vital de Madame | D37: charge mensuelle | E37: charge annuelle | F37: mensualisation
A38: base mensuelle selon normes OPF | F38: =D38+E38/12 -> 0
A39: coût du logement y. c. charges et après déduction part enfant(s)
B40: ./. part(s) enfant(s) : | C40: ='Enfant(s)'!J27 -> 0 | D40: =C39-C40 -> 0 | F40: =D40+E40/12 -> 0
A41: assurance-maladie | F41: =D41+E41/12 -> 0
A42: assurance complémentaire | F42: =D42+E42/12 -> 0
A43: frais médicaux | F43: =D43+E43/12 -> 0
A44: frais professionnels (déplacement) | F44: =D44+E44/12 -> 0
...

Sheet Pensions Enfant(s)
A2: C) RÉPARTITION DU COÛT DES ENFANTS ET FIXATION DES PENSIONS | B2: =IF(ISBLANK(Nom_de_l_affaire),"",Nom_de_l_affaire) | J2: Page 3 / 4
A3: a) Prise en charge des coûts directs nets
B4: Clé : | C4: Disponibles | D4: Revenus | E4: Personnalisée
B5: Totaux | C5: =SUMIF(Disponible_M,">0")+SUMIF(Disponible_Mme,">0") -> 0 | D5: =SUM(Revenus_M,Revenus_Mme) -> 0
B6: Monsieur | C6: =IF(C5>0,SUMIF(Disponible_M,">0")/C5,0) -> 0 | D6: =IF(D5>0,SUMIF(Revenus_M,">0")/D5,0) -> 0 | E6: 0.5
B7: Madame | C7: =IF(C5>0,SUMIF(Disponible_Mme,">0")/C5,0) -> 0 | D7: =IF(D5>0,SUMIF(Revenus_Mme,">0")/D5,0) -> 0 | E7: =1-E6 -> 0.5
A9: Clé de répartition choisie | B9: Disponibles
B11: =IF(ISBLANK('Enfant(s)'!B3),"",'Enfant(s)'!B3) | C11: =IF(ISBLANK('Enfant(s)'!C3),"",'Enfant(s)'!C3) | D11: =IF(ISBLANK('Enfant(s)'!D3),"",'Enfant(s)'!D3) | E11: =IF(ISBLANK('Enfant(s)'!E3),"",'Enfant(s)'!E3) | F11: =IF(ISBLANK('Enfant(s)'!F3),"",'Enfant(s)'!F3) | G11: =IF(ISBLANK('Enfant(s)'!G3),"",'Enfant(s)'!G3) | H11: =IF(ISBLANK('Enfant(s)'!H3),"",'Enfant(s)'!H3) | I11: =IF(ISBLANK('Enfant(s)'!I3),"",'Enfant(s)'!I3)
B12: =IF(ISBLANK('Enfant(s)'!B4),"",'Enfant(s)'!B4) | C12: =IF(ISBLANK('Enfant(s)'!C4),"",'Enfant(s)'!C4) | D12: =IF(ISBLANK('Enfant(s)'!D4),"",'Enfant(s)'!D4) | E12: =IF(ISBLANK('Enfant(s)'!E4),"",'Enfant(s)'!E4) | F12: =IF(ISBLANK('Enfant(s)'!F4),"",'Enfant(s)'!F4) | G12: =IF(ISBLANK('Enfant(s)'!G4),"",'Enfant(s)'!G4) | H12: =IF(ISBLANK('Enfant(s)'!H4),"",'Enfant(s)'!H4) | I12: =IF(ISBLANK('Enfant(s)'!I4),"",'Enfant(s)'!I4) | J12: Total
A13: Entretien convenable pour coûts directs | B13: =IF(B12="Monsieur",'Enfant(s)'!B19+'Enfant(s)'!B22-SUM('Enfant(s)'!B46,'Enfant(s)'!B49,'Enfant(s)'!B52),IF(B12="Madame",'Enfant(s)'!B38+'Enfant(s)'!B41-SUM('Enfant(s)'!B47,'Enfant(s)'!B50,'Enfant(s)'!B53),'Enfant(s)'!B59)) -> 0 | C13: =IF(C12="Monsieur",'Enfant(s)'!C19+'Enfant(s)'!C22-SUM('Enfant(s)'!C46,'Enfant(s)'!C49,'Enfant(s)'!C52),IF(C12="Madame",'Enfant(s)'!C38+'Enfant(s)'!C41-SUM('Enfant(s)'!C47,'Enfant(s)'!C50,'Enfant(s)'!C53),'Enfant(s)'!C59)) -> 0 | D13: =IF(D12="Monsieur",'Enfant(s)'!D19+'Enfant(s)'!D22-SUM('Enfant(s)'!D46,'Enfant(s)'!D49,'Enfant(s)'!D52),IF(D12="Madame",'Enfant(s)'!D38+'Enfant(s)'!D41-SUM('Enfant(s)'!D47,'Enfant(s)'!D50,'Enfant(s)'!D53),'Enfant(s)'!D59)) -> 0 | E13: =IF(E12="Monsieur",'Enfant(s)'!E19+'Enfant(s)'!E22-SUM('Enfant(s)'!E46,'Enfant(s)'!E49,'Enfant(s)'!E52),IF(E12="Madame",'Enfant(s)'!E38+'Enfant(s)'!E41-SUM('Enfant(s)'!E47,'Enfant(s)'!E50,'Enfant(s)'!E53),'Enfant(s)'!E59)) -> 0 | F13: =IF(F12="Monsieur",'Enfant(s)'!F19+'Enfant(s)'!F22-SUM('Enfant(s)'!F46,'Enfant(s)'!F49,'Enfant(s)'!F52),IF(F12="Madame",'Enfant(s)'!F38+'Enfant(s)'!F41-SUM('Enfant(s)'!F47,'Enfant(s)'!F50,'Enfant(s)'!F53),'Enfant(s)'!F59)) -> 0 | G13: =IF(G12="Monsieur",'Enfant(s)'!G19+'Enfant(s)'!G22-SUM('Enfant(s)'!G46,'Enfant(s)'!G49,'Enfant(s)'!G52),IF(G12="Madame",'Enfant(s)'!G38+'Enfant(s)'!G41-SUM('Enfant(s)'!G47,'Enfant(s)'!G50,'Enfant(s)'!G53),'Enfant(s)'!G59)) -> 0 | H13: =IF(H12="Monsieur",'Enfant(s)'!H19+'Enfant(s)'!H22-SUM('Enfant(s)'!H46,'Enfant(s)'!H49,'Enfant(s)'!H52),IF(H12="Madame",'Enfant(s)'!H38+'Enfant(s)'!H41-SUM('Enfant(s)'!H47,'Enfant(s)'!H50,'Enfant(s)'!H53),'Enfant(s)'!H59)) -> 0 | I13: =IF(I12="Monsieur",'Enfant(s)'!I19+'Enfant(s)'!I22-SUM('Enfant(s)'!I46,'Enfant(s)'!I49,'Enfant(s)'!I52),IF(I12="Madame",'Enfant(s)'!I38+'Enfant(s)'!I41-SUM('Enfant(s)'!I47,'Enfant(s)'!I50,'Enfant(s)'!I53),'Enfant(s)'!I59)) -> 0 | J13: =SUM(B13:I13) -> 0
A15: Obligations théoriques de Monsieur selon clé choisie avant protection du MV | B15: =IF('Enfant(s)'!B4="Monsieur",B13,IF('Enfant(s)'!B4="Madame",0,IF($B$9="Disponibles",B13*$C$6,IF($B$9="Revenus",B13*$D$6,B13*$E$6)))) -> 0 | C15: =IF('Enfant(s)'!C4="Monsieur",C13,IF('Enfant(s)'!C4="Madame",0,IF($B$9="Disponibles",C13*$C$6,IF($B$9="Revenus",C13*$D$6,C13*$E$6)))) -> 0 | D15: =IF('Enfant(s)'!D4="Monsieur",D13,IF('Enfant(s)'!D4="Madame",0,IF($B$9="Disponibles",D13*$C$6,IF($B$9="Revenus",D13*$D$6,D13*$E$6)))) -> 0 | E15: =IF('Enfant(s)'!E4="Monsieur",E13,IF('Enfant(s)'!E4="Madame",0,IF($B$9="Disponibles",E13*$C$6,IF($B$9="Revenus",E13*$D$6,E13*$E$6)))) -> 0 | F15: =IF('Enfant(s)'!F4="Monsieur",F13,IF('Enfant(s)'!F4="Madame",0,IF($B$9="Disponibles",F13*$C$6,IF($B$9="Revenus",F13*$D$6,F13*$E$6)))) -> 0 | G15: =IF('Enfant(s)'!G4="Monsieur",G13,IF('Enfant(s)'!G4="Madame",0,IF($B$9="Disponibles",G13*$C$6,IF($B$9="Revenus",G13*$D$6,G13*$E$6)))) -> 0 | H15: =IF('Enfant(s)'!H4="Monsieur",H13,IF('Enfant(s)'!H4="Madame",0,IF($B$9="Disponibles",H13*$C$6,IF($B$9="Revenus",H13*$D$6,H13*$E$6)))) -> 0 | I15: =IF('Enfant(s)'!I4="Monsieur",I13,IF('Enfant(s)'!I4="Madame",0,IF($B$9="Disponibles",I13*$C$6,IF($B$9="Revenus",I13*$D$6,I13*$E$6)))) -> 0 | J15: =SUM(B15:I15) -> 0
A16: Disponible (+) ou manco (-) personnel de M. | B16: =Disponible_M -> 0
A17: Capacité financière de Monsieur assumer ses obligations d'entretien | B17: =IF(OR(Disponible_M<0,B12="Madame"),0,IF($J$13>$B$16,$B$16/$J$13,1)) -> 1 | C17: =IF(OR(Disponible_M<0,C12="Madame"),0,IF($J$13>$B$16,$B$16/$J$13,1)) -> 1 | D17: =IF(OR(Disponible_M<0,D12="Madame"),0,IF($J$13>$B$16,$B$16/$J$13,1)) -> 1 | E17: =IF(OR(Disponible_M<0,E12="Madame"),0,IF($J$13>$B$16,$B$16/$J$13,1)) -> 1 | F17: =IF(OR(Disponible_M<0,F12="Madame"),0,IF($J$13>$B$16,$B$16/$J$13,1)) -> 1 | G17: =IF(OR(Disponible_M<0,G12="Madame"),0,IF($J$13>$B$16,$B$16/$J$13,1)) -> 1 | H17: =IF(OR(Disponible_M<0,H12="Madame"),0,IF($J$13>$B$16,$B$16/$J$13,1)) -> 1 | I17: =IF(OR(Disponible_M<0,I12="Madame"),0,IF($J$13>$B$16,$B$16/$J$13,1)) -> 1
A18: Obligations théoriques de Monsieur après protection du MV personnel | B18: =B15*B17 -> 0 | C18: =C15*C17 -> 0 | D18: =D15*D17 -> 0 | E18: =E15*E17 -> 0 | F18: =F15*F17 -> 0 | G18: =G15*G17 -> 0 | H18: =H15*H17 -> 0 | I18: =I15*I17 -> 0 | J18: =SUM(B18:I18) -> 0
A20: ./. Coûts directs nets assumés par Monsieur | B20: ='Enfant(s)'!B57 -> 0 | C20: ='Enfant(s)'!C57 -> 0 | D20: ='Enfant(s)'!D57 -> 0 | E20: ='Enfant(s)'!E57 -> 0 | F20: ='Enfant(s)'!F57 -> 0 | G20: ='Enfant(s)'!G57 -> 0 | H20: ='Enfant(s)'!H57 -> 0 | I20: ='Enfant(s)'!I57 -> 0 | J20: =SUM(B20:I20) -> 0
A22: Pension pour coûts directs à la charge de Monsieur (théorique) | B22: =IF(B18-B20<0,0,B18-B20) -> 0 | C22: =IF(C18-C20<0,0,C18-C20) -> 0 | D22: =IF(D18-D20<0,0,D18-D20) -> 0 | E22: =IF(E18-E20<0,0,E18-E20) -> 0 | F22: =IF(F18-F20<0,0,F18-F20) -> 0 | G22: =IF(G18-G20<0,0,G18-G20) -> 0 | H22: =IF(H18-H20<0,0,H18-H20) -> 0 | I22: =IF(I18-I20<0,0,I18-I20) -> 0 | J22: =SUM(B22:I22) -> 0
A23: Pension pour coûts directs à la charge de Monsieur concrètement arrêtée à | J23: =SUM(B23:I23) -> 0 | K23: à compléter manuellement
B24: =IF(B$12="Commun",B23,0) -> 0 | C24: =IF(C$12="Commun",C23,0) -> 0 | D24: =IF(D$12="Commun",D23,0) -> 0 | E24: =IF(E$12="Commun",E23,0) -> 0 | F24: =IF(F$12="Commun",F23,0) -> 0 | G24: =IF(G$12="Commun",G23,0) -> 0 | H24: =IF(H$12="Commun",H23,0) -> 0 | I24: =IF(I$12="Commun",I23,0) -> 0 | J24: =SUM(B24:I24) -> 0 | K24: dont enfants communs
B26: =IF(ISBLANK('Enfant(s)'!B18),"",'Enfant(s)'!B18) | C26: =IF(ISBLANK('Enfant(s)'!C18),"",'Enfant(s)'!C18) | D26: =IF(ISBLANK('Enfant(s)'!D18),"",'Enfant(s)'!D18) | E26: =IF(ISBLANK('Enfant(s)'!E18),"",'Enfant(s)'!E18) | F26: =IF(ISBLANK('Enfant(s)'!F18),"",'Enfant(s)'!F18) | G26: =IF(ISBLANK('Enfant(s)'!G18),"",'Enfant(s)'!G18) | H26: =IF(ISBLANK('Enfant(s)'!H18),"",'Enfant(s)'!H18) | I26: =IF(ISBLANK('Enfant(s)'!I18),"",'Enfant(s)'!I18)
A27: Obligations théoriques de Madame selon clé choisie avant protection du MV | B27: =IF('Enfant(s)'!B4="Madame",B13,IF(B12="Monsieur",0,IF($B$9="Disponibles",B13*$C$7,IF($B$9="Revenus",B13*$D$7,B13*$E$7)))) -> 0 | C27: =IF('Enfant(s)'!C4="Madame",C13,IF(C12="Monsieur",0,IF($B$9="Disponibles",C13*$C$7,IF($B$9="Revenus",C13*$D$7,C13*$E$7)))) -> 0 | D27: =IF('Enfant(s)'!D4="Madame",D13,IF(D12="Monsieur",0,IF($B$9="Disponibles",D13*$C$7,IF($B$9="Revenus",D13*$D$7,D13*$E$7)))) -> 0 | E27: =IF('Enfant(s)'!E4="Madame",E13,IF(E12="Monsieur",0,IF($B$9="Disponibles",E13*$C$7,IF($B$9="Revenus",E13*$D$7,E13*$E$7)))) -> 0 | F27: =IF('Enfant(s)'!F4="Madame",F13,IF(F12="Monsieur",0,IF($B$9="Disponibles",F13*$C$7,IF($B$9="Revenus",F13*$D$7,F13*$E$7)))) -> 0 | G27: =IF('Enfant(s)'!G4="Madame",G13,IF(G12="Monsieur",0,IF($B$9="Disponibles",G13*$C$7,IF($B$9="Revenus",G13*$D$7,G13*$E$7)))) -> 0 | H27: =IF('Enfant(s)'!H4="Madame",H13,IF(H12="Monsieur",0,IF($B$9="Disponibles",H13*$C$7,IF($B$9="Revenus",H13*$D$7,H13*$E$7)))) -> 0 | I27: =IF('Enfant(s)'!I4="Madame",I13,IF(I12="Monsieur",0,IF($B$9="Disponibles",I13*$C$7,IF($B$9="Revenus",I13*$D$7,I13*$E$7)))) -> 0 | J27: =SUM(B27:I27) -> 0
A28: Disponible (+) ou manco (-) personnel de Mme | B28: =Disponible_Mme -> 0
A29: Capacité financière de Madame d'assumer ses obligations d'entretien | B29: =IF(OR(Disponible_Mme<0,B11="",B12="Monsieur"),0,IF($J$27>$B$28,$B$28/$J$27,1)) -> 0 | C29: =IF(OR(Disponible_Mme<0,C11="",C12="Monsieur"),0,IF($J$27>$B$28,$B$28/$J$27,1)) -> 0 | D29: =IF(OR(Disponible_Mme<0,D11="",D12="Monsieur"),0,IF($J$27>$B$28,$B$28/$J$27,1)) -> 0 | E29: =IF(OR(Disponible_Mme<0,E11="",E12="Monsieur"),0,IF($J$27>$B$28,$B$28/$J$27,1)) -> 0 | F29: =IF(OR(Disponible_Mme<0,F11="",F12="Monsieur"),0,IF($J$27>$B$28,$B$28/$J$27,1)) -> 0 | G29: =IF(OR(Disponible_Mme<0,G11="",G12="Monsieur"),0,IF($J$27>$B$28,$B$28/$J$27,1)) -> 0 | H29: =IF(OR(Disponible_Mme<0,H11="",H12="Monsieur"),0,IF($J$27>$B$28,$B$28/$J$27,1)) -> 0 | I29: =IF(OR(Disponible_Mme<0,I11="",I12="Monsieur"),0,IF($J$27>$B$28,$B$28/$J$27,1)) -> 0
A30: Obligations théoriques de Madame après protection du MV personnel | B30: =B27*B29 -> 0 | C30: =C27*C29 -> 0 | D30: =D27*D29 -> 0 | E30: =E27*E29 -> 0 | F30: =F27*F29 -> 0 | G30: =G27*G29 -> 0 | H30: =H27*H29 -> 0 | I30: =I27*I29 -> 0 | J30: =SUM(B30:I30) -> 0
A32: ./. Coûts directs nets assumés par Madame | B32: ='Enfant(s)'!B58 -> 0 | C32: ='Enfant(s)'!C58 -> 0 | D32: ='Enfant(s)'!D58 -> 0 | E32: ='Enfant(s)'!E58 -> 0 | F32: ='Enfant(s)'!F58 -> 0 | G32: ='Enfant(s)'!G58 -> 0 | H32: ='Enfant(s)'!H58 -> 0 | I32: ='Enfant(s)'!I58 -> 0 | J32: =SUM(B32:H32) -> 0
A34: Pension pour coûts directs à la charge de Madame (théorique) | B34: =IF(B30-B32<0,0,B30-B32) -> 0 | C34: =IF(C30-C32<0,0,C30-C32) -> 0 | D34: =IF(D30-D32<0,0,D30-D32) -> 0 | E34: =IF(E30-E32<0,0,E30-E32) -> 0 | F34: =IF(F30-F32<0,0,F30-F32) -> 0 | G34: =IF(G30-G32<0,0,G30-G32) -> 0 | H34: =IF(H30-H32<0,0,H30-H32) -> 0 | I34: =IF(I30-I32<0,0,I30-I32) -> 0 | J34: =SUM(B34:I34) -> 0
A35: Pension pour coûts directs à la charge de Madame concrètement arrêtée à | J35: =SUM(B35:I35) -> 0 | K35: à compléter manuellement
B36: =IF(B$12="Commun",B35,0) -> 0 | C36: =IF(C$12="Commun",C35,0) -> 0 | D36: =IF(D$12="Commun",D35,0) -> 0 | E36: =IF(E$12="Commun",E35,0) -> 0 | F36: =IF(F$12="Commun",F35,0) -> 0 | G36: =IF(G$12="Commun",G35,0) -> 0 | H36: =IF(H$12="Commun",H35,0) -> 0 | I36: =IF(I$12="Commun",I35,0) -> 0 | J36: =SUM(B36:I36) -> 0 | K36: dont enfants communs
A38: b) Contribution de prise en charge
B39: Disponible / manco individuel | D39: +/- solde net
A40: Disponible (+) ou manco (-) de Monsieur après prise en compte des coûts directs | B40: =Disponible_M -> 0 | D40: =-J20-J23+J36 -> 0 | E40: = | F40: =B40+D40 -> 0
A41: Disponible (+) ou manco (-) de Madame après prise en compte des coûts directs | B41: =Disponible_Mme -> 0 | D41: =-J32-J35+J24 -> 0 | E41: = | F41: =B41+D41 -> 0
B43: =B$11 | C43: =C$11 | D43: =D$11 | E43: =E$11 | F43: =F$11 | G43: =G$11 | H43: =H$11 | I43: =I$11
A44: Enfant (de) | B44: =B$12 | C44: =C$12 | D44: =D$12 | E44: =E$12 | F44: =F$12 | G44: =G$12 | H44: =H$12 | I44: =I$12
A45: Enfant au bénéfice d'une contribution de prise en charge auprès de …
J46: Total
A47: Répartition du manco individuel de Madame | B47: =IF(B45="Madame",IF(Disponible_Mme>=0,0,-Disponible_Mme/COUNTIF($B$45:$I$45,"Madame")),0) -> 0 | C47: =IF(C45="Madame",IF(Disponible_Mme>=0,0,-Disponible_Mme/COUNTIF($B$45:$I$45,"Madame")),0) -> 0 | D47: =IF(D45="Madame",IF(Disponible_Mme>=0,0,-Disponible_Mme/COUNTIF($B$45:$I$45,"Madame")),0) -> 0 | E47: =IF(E45="Madame",IF(Disponible_Mme>=0,0,-Disponible_Mme/COUNTIF($B$45:$I$45,"Madame")),0) -> 0 | F47: =IF(F45="Madame",IF(Disponible_Mme>=0,0,-Disponible_Mme/COUNTIF($B$45:$I$45,"Madame")),0) -> 0 | G47: =IF(G45="Madame",IF(Disponible_Mme>=0,0,-Disponible_Mme/COUNTIF($B$45:$I$45,"Madame")),0) -> 0 | H47: =IF(H45="Madame",IF(Disponible_Mme>=0,0,-Disponible_Mme/COUNTIF($B$45:$I$45,"Madame")),0) -> 0 | I47: =IF(I45="Madame",IF(Disponible_Mme>=0,0,-Disponible_Mme/COUNTIF($B$45:$I$45,"Madame")),0) -> 0 | J47: =SUM(B47:I47) -> 0
A48: Contribution de prise en charge due par Monsieur (avant protection du MV) | B48: =IF(B44="Monsieur",'Enfant(s)'!B23,IF(AND(B44="Commun",B45="Madame"),B47,0)) -> 0 | C48: =IF(C44="Monsieur",'Enfant(s)'!C23,IF(AND(C44="Commun",C45="Madame"),C47,0)) -> 0 | D48: =IF(D44="Monsieur",'Enfant(s)'!D23,IF(AND(D44="Commun",D45="Madame"),D47,0)) -> 0 | E48: =IF(E44="Monsieur",'Enfant(s)'!E23,IF(AND(E44="Commun",E45="Madame"),E47,0)) -> 0 | F48: =IF(F44="Monsieur",'Enfant(s)'!F23,IF(AND(F44="Commun",F45="Madame"),F47,0)) -> 0 | G48: =IF(G44="Monsieur",'Enfant(s)'!G23,IF(AND(G44="Commun",G45="Madame"),G47,0)) -> 0 | H48: =IF(H44="Monsieur",'Enfant(s)'!H23,IF(AND(H44="Commun",H45="Madame"),H47,0)) -> 0 | I48: =IF(I44="Monsieur",'Enfant(s)'!I23,IF(AND(I44="Commun",I45="Madame"),I47,0)) -> 0 | J48: =SUM(B48:I48) -> 0
A49: Capacité financière de Monsieur assumer ses obligations d'entretien | B49: =IF(Disponible_M_apres_couts_directs<=0,0,IF($J$48>Disponible_M_apres_couts_directs,Disponible_M_apres_couts_directs/$J$48,1)) -> 0 | C49: =IF(Disponible_M_apres_couts_directs<=0,0,IF($J$48>Disponible_M_apres_couts_directs,Disponible_M_apres_couts_directs/$J$48,1)) -> 0 | D49: =IF(Disponible_M_apres_couts_directs<=0,0,IF($J$48>Disponible_M_apres_couts_directs,Disponible_M_apres_couts_directs/$J$48,1)) -> 0 | E49: =IF(Disponible_M_apres_couts_directs<=0,0,IF($J$48>Disponible_M_apres_couts_directs,Disponible_M_apres_couts_directs/$J$48,1)) -> 0 | F49: =IF(Disponible_M_apres_couts_directs<=0,0,IF($J$48>Disponible_M_apres_couts_directs,Disponible_M_apres_couts_directs/$J$48,1)) -> 0 | G49: =IF(Disponible_M_apres_couts_directs<=0,0,IF($J$48>Disponible_M_apres_couts_directs,Disponible_M_apres_couts_directs/$J$48,1)) -> 0 | H49: =IF(Disponible_M_apres_couts_directs<=0,0,IF($J$48>Disponible_M_apres_couts_directs,Disponible_M_apres_couts_directs/$J$48,1)) -> 0 | I49: =IF(Disponible_M_apres_couts_directs<=0,0,IF($J$48>Disponible_M_apres_couts_directs,Disponible_M_apres_couts_directs/$J$48,1)) -> 0
A50: Contribution de prise en charge due par Monsieur (après protection du MV) | B50: =B48*B49 -> 0 | C50: =C48*C49 -> 0 | D50: =D48*D49 -> 0 | E50: =E48*E49 -> 0 | F50: =F48*F49 -> 0 | G50: =G48*G49 -> 0 | H50: =H48*H49 -> 0 | I50: =I48*I49 -> 0 | J50: =SUM(B50:I50) -> 0
A51: Contribution de prise en charge due par Monsieur concrètement arrêtée à | J51: =SUM(B51:I51) -> 0 | K51: à compléter manu.
...

Sheet Pensions Epoux
D1: =IF(ISBLANK(Nom_de_l_affaire),"",Nom_de_l_affaire)
A2: D) DÉTERMINATION DE LA PENSION POUR LE CONJOINT | H2: Page 4/4
A4: a) Situation après prise en compte des enfants
A5: Chez Monsieur
A6: Disponible (+) manco (-) personnel de Monsieur | C6: =Disponible_M -> 0 | F6: Version du tableau | G6: 43784
A7: Total des pensions versées par Madame à Monsieur pour les enfants | C7: ='Pensions Enfant(s)'!J65 -> 0
A8: ./. Total des coûts directs des enfants assumés par Monsieur | B8: ./. | C8: ='Enfant(s)'!J57 -> 0 | F8: Total des pensions dues (enfants communs + conjoint)
A9: ./. Total des pensions payées par Monsieur pour ses enfants | B9: ./. | C9: =Pensions_enfants_M -> 0 | F9: Par Monsieur | G9: =IF(C36="Monsieur",C38+'Pensions Enfant(s)'!J63,'Pensions Enfant(s)'!J63) -> 0
A10: Correction manuelle | B10: + ou - | D10: à compléter manu. | F10: Par Madame | G10: =IF(C36="Madame",C38+'Pensions Enfant(s)'!J65,'Pensions Enfant(s)'!J65) -> 0
A11: Disponible (+) manco (-) de Monsieur après prise en compte des enfants | C11: =SUM(C6:C7)-SUM(C8:C10) -> 0
A13: Chez Madame
A14: Disponible (+) manco (-)personnel de Madame | C14: =Disponible_Mme -> 0
A15: Total des pensions versées par Monsieur à Madame pour les enfants | C15: ='Pensions Enfant(s)'!J63 -> 0
A16: ./. Total des coûts directs des enfants assumés par Madame | B16: ./. | C16: ='Enfant(s)'!J58 -> 0
A17: ./. Total des pensions payées par Madame pour ses enfants | B17: ./. | C17: =Pensions_enfants_Mme -> 0
A18: Correction manuelle | B18: + ou - | D18: à compléter manu.
A19: Disponible (+) manco (-) de Madame après prise en compte des enfants | C19: =SUM(C14:C15)-SUM(C16:C18) -> 0
A21: b) Calcul de la pension pour conjoint
A22: Manco (-) de Monsieur après prise en compte des enfants | C22: =IF(C11<0,-C11,0) -> 0
A23: Manco (-) de Madame après prise en compte des enfants | C23: =IF(C19<0,-C19,0) -> 0
A25: Couverture du manco de Monsieur par le disponible de Madame | C25: =IF(C22>0,IF(C19>C22,C22,C19),0) -> 0
A26: Couverture du manco de Madame par le disponible de Monsieur | C26: =IF(C23>0,IF(C11>C23,C23,C11),0) -> 0
A28: Solde du disponible de Monsieur après couverture du manco no 2 de Madame | C28: =IF(C11-C26>0,C11-C26,0) -> 0
A29: Solde du disponible de Madame après couverture du manco no 2 de Monsieur | C29: =IF(C19-C25>0,C19-C25,0) -> 0
A30: Total des soldes du disponible | C30: =C28+C29 -> 0
A32: Clé de répartition du total des soldes du disponible
A33: Part de Monsieur | B33: 0.5 | C33: =C30*B33 -> 0
A34: Part de Madame | B34: =1-B33 -> 0.5 | C34: =C30*B34 -> 0
A36: Pension due par… | C36: =IF(C25>0,"Madame",IF(C28<C33,"Madame",IF(C26>0,"Monsieur",IF(C29<C34,"Monsieur", "Pas de pension")))) -> Pas de pension
A37: Montant théorique de la pension | C37: =IF(C36="Monsieur",C26+C34-C29,IF(C36="Madame",C25+C33-C28,0)) -> 0
A38: Montant de la pension pour conjoint arrêté à… | C38: 0 | D38: à compléter manu.
A40: Formule de calcul de la pension pour le conjoint : Couverture du manco no 2 du crédirentier + Part au disponible revenant au crédirentier - Disponible du crédirentier
